BEGIN:VCALENDAR
VERSION:2.0
PRODID:-//Plone.org//NONSGML plone.app.event//EN
X-WR-TIMEZONE:US/Eastern
BEGIN:VEVENT
SUMMARY:"Truth Be Told" Book Club
DTSTART;TZID=US/Eastern:20250708T160000
DTEND;TZID=US/Eastern:20250708T170000
DTSTAMP:20260421T084715Z
UID:2c14078a5f304c788b374fbb4af0629d@saas_stack_varnish:6080
CONTACT:Ellie Dekkinga\, 231-928-0208\, edekkinga@fremontlibrary.net
CREATED:20250313T154454Z
DESCRIPTION:Title To Be Announced
LAST-MODIFIED:20250523T183624Z
LOCATION:South Fireplace
URL:https://www.fremontlibrary.net/events-calendar/library-meeting-room-ca
 lendar/truth-be-told-book-club-2
END:VEVENT
BEGIN:VTIMEZONE
TZID:US/Eastern
X-LIC-LOCATION:US/Eastern
BEGIN:DAYLIGHT
DTSTART:20250309T030000
TZNAME:EDT
TZOFFSETFROM:-0500
TZOFFSETTO:-0400
END:DAYLIGHT
END:VTIMEZONE
END:VCALENDAR
