BEGIN:VCALENDAR
VERSION:2.0
PRODID:-//Plone.org//NONSGML plone.app.event//EN
X-WR-TIMEZONE:US/Eastern
BEGIN:VEVENT
SUMMARY:Toddler Storytime
DTSTART;TZID=US/Eastern:20251001T090000
DTEND;TZID=US/Eastern:20251001T120000
DTSTAMP:20260421T102241Z
UID:90ee3443c94a4c5bb26421beb1586210@saas_stack_varnish:6080
RRULE:FREQ=WEEKLY;UNTIL=20251029T000000;BYDAY=WE
CONTACT:Roxanne Landin\, 231-928-0249\, rlandin@fremontlibrary.net
CREATED:20250721T194459Z
DESCRIPTION:Begins at 10:00 a.m.\nFor babies and toddlers up to age 3. Fea
 turing stories\, lapsits\, fingerplays\, music and movement activities. Ev
 ent begins at 10:00 a.m.
LAST-MODIFIED:20250721T194513Z
LOCATION:Community Room
URL:https://www.fremontlibrary.net/events-calendar/library-meeting-room-ca
 lendar/toddler-storytime-1
END:VEVENT
BEGIN:VTIMEZONE
TZID:US/Eastern
X-LIC-LOCATION:US/Eastern
BEGIN:DAYLIGHT
DTSTART:20250309T030000
TZNAME:EDT
TZOFFSETFROM:-0500
TZOFFSETTO:-0400
END:DAYLIGHT
END:VTIMEZONE
END:VCALENDAR
