BEGIN:VCALENDAR
VERSION:2.0
PRODID:-//Plone.org//NONSGML plone.app.event//EN
X-WR-TIMEZONE:US/Eastern
BEGIN:VEVENT
SUMMARY:Fit For Life
DTSTART;TZID=US/Eastern:20250611T120000
DTEND;TZID=US/Eastern:20250611T130000
DTSTAMP:20260422T084116Z
UID:35e17f8b0d654f21842884e14cf49ece@saas_stack_varnish:6080
CONTACT:Stephani Gibson\, 231-928-0270\, sgibson@fremontlibrary.net
CREATED:20250429T145917Z
DESCRIPTION:Fit For Life is a functional movement class designed to move t
 he whole body through a series of seated and standing exercises that will 
 increase strength\, muscular endurance\, balance and flexibility. Class is
  low impact and great for ALL levels of fitness who are interested in work
 ing on their health.
LAST-MODIFIED:20250523T183848Z
LOCATION:Community Room
URL:https://www.fremontlibrary.net/events-calendar/library-meeting-room-ca
 lendar/fit-for-life-99
END:VEVENT
BEGIN:VTIMEZONE
TZID:US/Eastern
X-LIC-LOCATION:US/Eastern
BEGIN:DAYLIGHT
DTSTART:20250309T030000
TZNAME:EDT
TZOFFSETFROM:-0500
TZOFFSETTO:-0400
END:DAYLIGHT
END:VTIMEZONE
END:VCALENDAR
