BEGIN:VCALENDAR
VERSION:2.0
PRODID:-//Plone.org//NONSGML plone.app.event//EN
X-WR-TIMEZONE:US/Eastern
BEGIN:VEVENT
SUMMARY:Game On
DTSTART;TZID=US/Eastern:20260423T140000
DTEND;TZID=US/Eastern:20260423T173000
DTSTAMP:20260423T084443Z
UID:edf8dc1ff608422bbcbbb0952c113974@saas_stack_varnish:6080
CONTACT:Alison Genter\, 231-924-3480\, agenter@fremontlibrary.net
CREATED:20260109T143237Z
DESCRIPTION:Runs from 3:00 p.m. to 5:00 p.m. Ages 11 & up. After school\, 
 come hang out\, snack\, and challenge your friends to some epic matches! R
 ace on Mario Kart on the big screen\, fire up the Wii\, or show off your s
 kills with classic board and card games. Whether you’re here to compete 
 or just hang out\, it’s all about fun\, friends\, and games.
LAST-MODIFIED:20260112T141318Z
LOCATION:Community Room
URL:https://www.fremontlibrary.net/events-calendar/library-meeting-room-ca
 lendar/game-on-3
END:VEVENT
BEGIN:VEVENT
SUMMARY:Teen D&D (REGISTRATION FULL)
DTSTART;TZID=US/Eastern:20260205T153000
DTEND;TZID=US/Eastern:20260205T173000
DTSTAMP:20260423T084443Z
UID:f36a0ec831a347859b1c62e527e4f29b@saas_stack_varnish:6080
RRULE:FREQ=WEEKLY;COUNT=8
CONTACT:Sariah Woodruff\, 231-928-0240\, swoodruff@fremontlibrary.net
CREATED:20260114T191449Z
DESCRIPTION:Sign up two weeks before each activity\, until filled\, by cal
 ling 231-924-3480 or seeing the front desk. Limit of 6 teens each week. Th
 ese meetings will be student-led. You bring your imagination\, and we'll p
 rovide everything else. The group of players tell a collective story\, gui
 ding their heroes through dangerous quests in search for treasure\, battle
  deadly foes\, and carry out daring rescues. The adventure itself is only 
 limited by the imagination of the players around the table.
LAST-MODIFIED:20260324T180718Z
LOCATION:Upper Level Conference Room
URL:https://www.fremontlibrary.net/events-calendar/library-meeting-room-ca
 lendar/teen-d-d-registration-full
END:VEVENT
BEGIN:VEVENT
SUMMARY:Teen D&D
DTSTART;TZID=US/Eastern:20260423T153000
DTEND;TZID=US/Eastern:20260423T173000
DTSTAMP:20260423T084443Z
UID:bb96d6b57c704eeaaad2aecc32dce0a4@saas_stack_varnish:6080
RRULE:FREQ=WEEKLY;UNTIL=20260430T000000;BYDAY=TH
EXDATE;TZID=US/Eastern:20260409T000000
CONTACT:Sariah Woodruff-Goll\, 231-924-3480\, swoodruff@fremontlibrary.net
CREATED:20260324T181324Z
DESCRIPTION:Sign up two weeks before each activity\, until filled\, by cal
 ling 231-924-3480 or seeing the front desk. Limit of 6 teens each week. Th
 ese meetings will be student-led. You bring your imagination\, and we'll p
 rovide everything else. The group of players tell a collective story\, gui
 ding their heroes through dangerous quests in search for treasure\, battle
  deadly foes\, and carry out daring rescues. The adventure itself is only 
 limited by the imagination of the players around the table.
LAST-MODIFIED:20260325T204454Z
LOCATION:Upper Level Conference Room
URL:https://www.fremontlibrary.net/events-calendar/library-meeting-room-ca
 lendar/teen-d-d-14
END:VEVENT
BEGIN:VTIMEZONE
TZID:US/Eastern
X-LIC-LOCATION:US/Eastern
BEGIN:DAYLIGHT
DTSTART:20260308T030000
TZNAME:EDT
TZOFFSETFROM:-0500
TZOFFSETTO:-0400
END:DAYLIGHT
BEGIN:STANDARD
DTSTART:20251102T010000
TZNAME:EST
TZOFFSETFROM:-0400
TZOFFSETTO:-0500
END:STANDARD
END:VTIMEZONE
END:VCALENDAR
