BEGIN:VCALENDAR
VERSION:2.0
PRODID:-//Plone.org//NONSGML plone.app.event//EN
X-WR-TIMEZONE:US/Eastern
BEGIN:VEVENT
SUMMARY:Full STEAM Ahead
DTSTART;TZID=US/Eastern:20260421T143000
DTEND;TZID=US/Eastern:20260421T173000
DTSTAMP:20260421T085535Z
UID:15d6d499b68345f49820fe6b0792ada3@saas_stack_varnish:6080
CONTACT:Sariah Woodruff-Goll\, 231-924-3480\, swoodruff@fremontlibrary.net
CREATED:20260115T143115Z
DESCRIPTION:You bring the imagination and we'll provide everything you nee
 d. Building and art concepts for kids to construct on their own or with a 
 group. For Kids ages 10 to 12. Please come in and sign up your child at th
 e Circulation Desk\, the desk at the entrance\, or call in at 231-924-3480
 . Limited to 15 children each week. You can sign up your child two weeks b
 efore the activity\, until filled. Event begins at 3:30 p.m. and ends at 4
 :30 p.m.
LAST-MODIFIED:20260115T143126Z
LOCATION:Community Room
URL:https://www.fremontlibrary.net/events-calendar/library-meeting-room-ca
 lendar/full-steam-ahead-12
END:VEVENT
BEGIN:VEVENT
SUMMARY:FADL Board Meeting
DTSTART;TZID=US/Eastern:20260421T160000
DTEND;TZID=US/Eastern:20260421T170000
DTSTAMP:20260421T085535Z
UID:584c1a54c7004adc8b9fb1868a0197c9@saas_stack_varnish:6080
CONTACT:Jackilyn Roseberry\, 231-928-0243\, jroseberry@fremontlibrary.net
CREATED:20260129T184626Z
DESCRIPTION:Monthly Board Meeting
LAST-MODIFIED:20260129T184639Z
LOCATION:Upper Level Conference Room
URL:https://www.fremontlibrary.net/events-calendar/library-meeting-room-ca
 lendar/fadl-board-meeting-3
END:VEVENT
BEGIN:VEVENT
SUMMARY:An Evening Of Pre-War Blues Music
DTSTART;TZID=US/Eastern:20260421T180000
DTEND;TZID=US/Eastern:20260421T200000
DTSTAMP:20260421T085535Z
UID:dd797dd58bb14a06b38795748f155789@saas_stack_varnish:6080
CONTACT:Stephani Gibson\, 231-928-0270\, sgibson@fremontlibrary.net
CREATED:20260108T163304Z
DESCRIPTION:Part concert\, part history lesson-an engaging journey through
  the roots of the Blues from the turn of the 20th century through World Wa
 r II.  The program features the pioneers of acoustic Blues like Blind Lemo
 n Jefferson\, Charley Patton\, Robert Johnson\, Muddy Waters and more whil
 e exploring the cultural history that shaped the music and its lasting inf
 luence on American art and sound.  The presentation is led by Manistee nat
 ive Nicholas Veine\, a singer-songwriter and composer whose background in 
 rock and blues informs his dynamic acoustic style\, blending authenticity 
 with an electric edge.  Event begins at 7:00 p.m.
LAST-MODIFIED:20260112T192548Z
LOCATION:Community Room
URL:https://www.fremontlibrary.net/events-calendar/library-meeting-room-ca
 lendar/an-evening-of-pre-war-blues-music
END:VEVENT
BEGIN:VTIMEZONE
TZID:US/Eastern
X-LIC-LOCATION:US/Eastern
BEGIN:DAYLIGHT
DTSTART:20260308T030000
TZNAME:EDT
TZOFFSETFROM:-0500
TZOFFSETTO:-0400
END:DAYLIGHT
END:VTIMEZONE
END:VCALENDAR
