BEGIN:VCALENDAR
VERSION:2.0
PRODID:-//Plone.org//NONSGML plone.app.event//EN
X-WR-TIMEZONE:US/Eastern
BEGIN:VEVENT
SUMMARY:Gibson's D&D
DTSTART;TZID=US/Eastern:20260420T151500
DTEND;TZID=US/Eastern:20260420T171500
DTSTAMP:20260420T081519Z
UID:db6ad16ebe0244adb14cbecbc3d0d589@saas_stack_varnish:6080
RRULE:FREQ=WEEKLY;UNTIL=20260608T000000
EXDATE;TZID=US/Eastern:20260525T000000,20260608T000000
CONTACT:Stephani Gibson\, sgibson@fremontlibrary.net
CREATED:20260223T151140Z
LAST-MODIFIED:20260223T151419Z
LOCATION:Upper Level Conference Room
URL:https://www.fremontlibrary.net/events-calendar/library-meeting-room-ca
 lendar/gibsons-d-d-1
END:VEVENT
BEGIN:VEVENT
SUMMARY:*Fremont Lions Club
DTSTART;TZID=US/Eastern:20260420T180000
DTEND;TZID=US/Eastern:20260420T200000
DTSTAMP:20260420T081519Z
UID:7a459bf15f964ca7ac43b42d3a0c715c@saas_stack_varnish:6080
RRULE:FREQ=MONTHLY;UNTIL=20260518T000000;BYDAY=+3MO
CONTACT:Lisa Reinecke\, 231-519-1607\, eady.Im@gmail.com
CREATED:20250805T181019Z
DESCRIPTION:Monthly Meeting
LAST-MODIFIED:20250916T125908Z
LOCATION:Community Room
URL:https://www.fremontlibrary.net/events-calendar/library-meeting-room-ca
 lendar/fremont-lions-club
END:VEVENT
BEGIN:VTIMEZONE
TZID:US/Eastern
X-LIC-LOCATION:US/Eastern
BEGIN:DAYLIGHT
DTSTART:20260308T030000
TZNAME:EDT
TZOFFSETFROM:-0500
TZOFFSETTO:-0400
END:DAYLIGHT
END:VTIMEZONE
END:VCALENDAR
